BEGIN:VCALENDAR
VERSION:2.0
PRODID:-//ottawajudoclub - ECPv6.15.20//NONSGML v1.0//EN
CALSCALE:GREGORIAN
METHOD:PUBLISH
X-ORIGINAL-URL:https://ottawajudoclub.com
X-WR-CALDESC:Events for ottawajudoclub
REFRESH-INTERVAL;VALUE=DURATION:PT1H
X-Robots-Tag:noindex
X-PUBLISHED-TTL:PT1H
BEGIN:VTIMEZONE
TZID:UTC
BEGIN:STANDARD
TZOFFSETFROM:+0000
TZOFFSETTO:+0000
TZNAME:UTC
DTSTART:20240101T000000
END:STANDARD
END:VTIMEZONE
BEGIN:VEVENT
DTSTART;VALUE=DATE:20251107
DTEND;VALUE=DATE:20251110
DTSTAMP:20260423T180950
CREATED:20250908T173757Z
LAST-MODIFIED:20250910T112852Z
UID:11145-1762473600-1762732799@ottawajudoclub.com
SUMMARY:Quebec Open (U14 to Veterans)
DESCRIPTION:Click here to register now \nClick here for Technical Package
URL:https://ottawajudoclub.com/event/quebec-open/
LOCATION:CEGEP Édouard-Montpetit\, 645\, Chemin de Chambly\, Longueuil\, Ontario\, J4H 4A9\, Canada
CATEGORIES:Green Belts & Up,HP Mandatory,National Qualifications,Ne Waza,Provincial A Tournament,Senior,U14,U16,U18,U21,Veterans
ATTACH;FMTTYPE=image/png:https://ottawajudoclub.com/wp-content/uploads/2025/09/Devis-technique-48e-OMNIUM-DU-QUEBEC-ENG-2025-07-25-3_Page_1.png
END:VEVENT
BEGIN:VEVENT
DTSTART;VALUE=DATE:20251017
DTEND;VALUE=DATE:20251020
DTSTAMP:20260423T180950
CREATED:20250906T085837Z
LAST-MODIFIED:20250910T112757Z
UID:11013-1760659200-1760918399@ottawajudoclub.com
SUMMARY:Ontario Open (U12 to Veterans)
DESCRIPTION:Click here to register for the Hatashita Ontario Open\n\nClick here for Technical Package
URL:https://ottawajudoclub.com/event/hatashita-ontario-open/
LOCATION:Toronto Pan-AM Centre\, 875 Morningside Avenue\, Toronto\, Ontario\, M1C 0C7\, Canada
CATEGORIES:HP Mandatory,National Qualifications,Ne Waza,Provincial A Tournament,Senior,U12,U14,U16,U18,U21,Veterans
ATTACH;FMTTYPE=application/pdf:https://ottawajudoclub.com/wp-content/uploads/2025/09/Ontario-Open-Tech-Pack-2025-3.pdf
END:VEVENT
END:VCALENDAR