BEGIN:VCALENDAR
VERSION:2.0
PRODID:-//ottawajudoclub - ECPv6.15.20//NONSGML v1.0//EN
CALSCALE:GREGORIAN
METHOD:PUBLISH
X-ORIGINAL-URL:https://ottawajudoclub.com
X-WR-CALDESC:Events for ottawajudoclub
REFRESH-INTERVAL;VALUE=DURATION:PT1H
X-Robots-Tag:noindex
X-PUBLISHED-TTL:PT1H
BEGIN:VTIMEZONE
TZID:UTC
BEGIN:STANDARD
TZOFFSETFROM:+0000
TZOFFSETTO:+0000
TZNAME:UTC
DTSTART:20240101T000000
END:STANDARD
END:VTIMEZONE
BEGIN:VEVENT
DTSTART;VALUE=DATE:20250920
DTEND;VALUE=DATE:20250922
DTSTAMP:20260423T164642
CREATED:20250908T181729Z
LAST-MODIFIED:20250909T233130Z
UID:11161-1758326400-1758499199@ottawajudoclub.com
SUMMARY:Fall Training Camp with Shohei Ono
DESCRIPTION:2025 Fall Camp – Flyer \n\n3x Olympic Gold Medalist\n2x World Champion\nUndefeated internationally for over 6 years\n\nSOLD OUT \n 
URL:https://ottawajudoclub.com/event/fall-training-camp-with-shohei-ono/
LOCATION:Toronto Pan-AM Centre\, 875 Morningside Avenue\, Toronto\, Ontario\, M1C 0C7\, Canada
CATEGORIES:Green Belts & Up,HP Mandatory,Provincial Training/Camp,Senior,U12,U14,U16,U18,U21,Veterans
ATTACH;FMTTYPE=image/png:https://ottawajudoclub.com/wp-content/uploads/2025/09/Screenshot-2025-09-08-at-2.18.42-PM.png
END:VEVENT
END:VCALENDAR