BEGIN:VCALENDAR
VERSION:2.0
PRODID:-//ottawajudoclub - ECPv6.15.20//NONSGML v1.0//EN
CALSCALE:GREGORIAN
METHOD:PUBLISH
X-WR-CALNAME:ottawajudoclub
X-ORIGINAL-URL:https://ottawajudoclub.com
X-WR-CALDESC:Events for ottawajudoclub
REFRESH-INTERVAL;VALUE=DURATION:PT1H
X-Robots-Tag:noindex
X-PUBLISHED-TTL:PT1H
BEGIN:VTIMEZONE
TZID:UTC
BEGIN:STANDARD
TZOFFSETFROM:+0000
TZOFFSETTO:+0000
TZNAME:UTC
DTSTART:20240101T000000
END:STANDARD
END:VTIMEZONE
BEGIN:VEVENT
DTSTART;VALUE=DATE:20251214
DTEND;VALUE=DATE:20251215
DTSTAMP:20260423T165639
CREATED:20250909T084437Z
LAST-MODIFIED:20250910T051046Z
UID:11185-1765670400-1765756799@ottawajudoclub.com
SUMMARY:Classique Outaouais
DESCRIPTION:Online Registration: http://www.judooutaouais.ca\nTournament Technical Package: Technical package Classique Outaouais 2025
URL:https://ottawajudoclub.com/event/classique-outaouais/
LOCATION:Centre Sportif de Gatineau\, 850 Boulevard de la Gappe\, Gatineau\, Ontario\, J8T 0B4\, Canada
CATEGORIES:Regional Tournament,Senior,U10,U12,U14,U16,U18,U21
ATTACH;FMTTYPE=image/png:https://ottawajudoclub.com/wp-content/uploads/2025/09/Screenshot-2025-09-10-at-1.10.23-AM.png
END:VEVENT
BEGIN:VEVENT
DTSTART;TZID=UTC:20250927T103000
DTEND;TZID=UTC:20250927T123000
DTSTAMP:20260423T165639
CREATED:20250908T174220Z
LAST-MODIFIED:20250909T235246Z
UID:11148-1758969000-1758976200@ottawajudoclub.com
SUMMARY:Ottawa Judo Club Developmental Tournament (Ages 8\, 9)
DESCRIPTION:Click here to register now \nOttawa Judo Club Shiai Sept 27 Technical Package
URL:https://ottawajudoclub.com/event/ottawa-judo-club-developmental-tournament/
LOCATION:Ontario
CATEGORIES:U10
ATTACH;FMTTYPE=image/png:https://ottawajudoclub.com/wp-content/uploads/2025/08/OJC-Shiai-Sept-27-Instagram.png
END:VEVENT
END:VCALENDAR